BEGIN:VCALENDAR
VERSION:2.0
PRODID:-//Gülseren Demirel - ECPv6.15.18//NONSGML v1.0//EN
CALSCALE:GREGORIAN
METHOD:PUBLISH
X-ORIGINAL-URL:https://guelseren-demirel.de
X-WR-CALDESC:Veranstaltungen für Gülseren Demirel
REFRESH-INTERVAL;VALUE=DURATION:PT1H
X-Robots-Tag:noindex
X-PUBLISHED-TTL:PT1H
BEGIN:VTIMEZONE
TZID:Europe/Berlin
BEGIN:DAYLIGHT
TZOFFSETFROM:+0100
TZOFFSETTO:+0200
TZNAME:CEST
DTSTART:20220327T010000
END:DAYLIGHT
BEGIN:STANDARD
TZOFFSETFROM:+0200
TZOFFSETTO:+0100
TZNAME:CET
DTSTART:20221030T010000
END:STANDARD
BEGIN:DAYLIGHT
TZOFFSETFROM:+0100
TZOFFSETTO:+0200
TZNAME:CEST
DTSTART:20230326T010000
END:DAYLIGHT
BEGIN:STANDARD
TZOFFSETFROM:+0200
TZOFFSETTO:+0100
TZNAME:CET
DTSTART:20231029T010000
END:STANDARD
BEGIN:DAYLIGHT
TZOFFSETFROM:+0100
TZOFFSETTO:+0200
TZNAME:CEST
DTSTART:20240331T010000
END:DAYLIGHT
BEGIN:STANDARD
TZOFFSETFROM:+0200
TZOFFSETTO:+0100
TZNAME:CET
DTSTART:20241027T010000
END:STANDARD
BEGIN:DAYLIGHT
TZOFFSETFROM:+0100
TZOFFSETTO:+0200
TZNAME:CEST
DTSTART:20250330T010000
END:DAYLIGHT
BEGIN:STANDARD
TZOFFSETFROM:+0200
TZOFFSETTO:+0100
TZNAME:CET
DTSTART:20251026T010000
END:STANDARD
BEGIN:DAYLIGHT
TZOFFSETFROM:+0100
TZOFFSETTO:+0200
TZNAME:CEST
DTSTART:20260329T010000
END:DAYLIGHT
BEGIN:STANDARD
TZOFFSETFROM:+0200
TZOFFSETTO:+0100
TZNAME:CET
DTSTART:20261025T010000
END:STANDARD
END:VTIMEZONE
BEGIN:VEVENT
DTSTART;TZID=Europe/Berlin:20250802T090000
DTEND;TZID=Europe/Berlin:20250802T103000
DTSTAMP:20260419T173128
CREATED:20250625T144703Z
LAST-MODIFIED:20250625T144829Z
UID:10000057-1754125200-1754130600@guelseren-demirel.de
SUMMARY:Gülserens Nachbarschaftsgespräch in Sendling
DESCRIPTION:Liebe Sendlinger*innen\, \nich freue mich darauf\, Sie auf dem Wochenmarkt am Margaretenplatz zu treffen. Haben Sie Fragen zur politischen Lage bzw. meiner Arbeit im Landtag? Gern nehme ich eure Wünsche oder Anliegen auf. \nIch liebe auch den spontanen Ratsch und freue mich\, mit Ihnen in Kontakt zu treten\, Ihre Anregungen und Impulse für die Politik mitzunehmen.
URL:https://guelseren-demirel.de/termin/guelserens-nachbarschaftsgespraech-in-sendling-3/
LOCATION:Resi-Huber-Platz\, Resi-Huber-Platz\, München\, 81371
ATTACH;FMTTYPE=image/jpeg:https://guelseren-demirel.de/web-2024/wp-content/uploads/2025/06/250730-Guelseren-SoMe-Wochenmaerkte-1200x1500-zweiter-Entwurf-2506-1637-3.jpg
END:VEVENT
BEGIN:VEVENT
DTSTART;TZID=Europe/Berlin:20250602T090000
DTEND;TZID=Europe/Berlin:20250602T103000
DTSTAMP:20260419T173128
CREATED:20250625T144315Z
LAST-MODIFIED:20250625T144542Z
UID:10000055-1748854800-1748860200@guelseren-demirel.de
SUMMARY:Gülserens Nachbarschaftsgespräch in Sendling
DESCRIPTION:Liebe Sendlinger*innen\, \nich freue mich darauf\, Sie auf dem Wochenmarkt am Margaretenplatz zu treffen. Haben Sie Fragen zur politischen Lage bzw. meiner Arbeit im Landtag? Gern nehme ich eure Wünsche oder Anliegen auf. \nIch liebe auch den spontanen Ratsch und freue mich\, mit Ihnen in Kontakt zu treten\, Ihre Anregungen und Impulse für die Politik mitzunehmen.
URL:https://guelseren-demirel.de/termin/guelserens-nachbarschaftsgespraech-in-sendling-2/
LOCATION:Resi-Huber-Platz\, Resi-Huber-Platz\, München\, 81371
ATTACH;FMTTYPE=image/jpeg:https://guelseren-demirel.de/web-2024/wp-content/uploads/2025/06/250730-Guelseren-SoMe-Wochenmaerkte-1200x1500-zweiter-Entwurf-2506-1637-3.jpg
END:VEVENT
BEGIN:VEVENT
DTSTART;TZID=Europe/Berlin:20250510T093000
DTEND;TZID=Europe/Berlin:20250510T110000
DTSTAMP:20260419T173128
CREATED:20250404T070322Z
LAST-MODIFIED:20250404T070322Z
UID:10000051-1746869400-1746874800@guelseren-demirel.de
SUMMARY:Gülserens Nachbarschaftsgespräch in Sendling
DESCRIPTION:Liebe Sendlinger*innen\, \nich freue mich darauf\, Sie auf dem Wochenmarkt am Resi-Huber-Platz zu treffen. Haben Sie Fragen zur politischen Lage bzw. meiner Arbeit im Landtag? Gern nehme ich eure Wünsche oder Anliegen auf. \nIch liebe auch den spontanen Ratsch und freue mich\, mit Ihnen in Kontakt zu treten\, Ihre Anregungen und Impulse für die Politik mitzunehmen.
URL:https://guelseren-demirel.de/termin/guelserens-nachbarschaftsgespraech-in-sendling/
LOCATION:Resi-Huber-Platz\, Resi-Huber-Platz\, München\, 81371
ATTACH;FMTTYPE=image/jpeg:https://guelseren-demirel.de/web-2024/wp-content/uploads/2025/04/250509-Guelseren-Wochenmaerkte-Sendling-1200x1500-040425-0856.jpg
END:VEVENT
BEGIN:VEVENT
DTSTART;TZID=Europe/Berlin:20230722T090000
DTEND;TZID=Europe/Berlin:20230722T110000
DTSTAMP:20260419T173128
CREATED:20240209T115025Z
LAST-MODIFIED:20240209T115025Z
UID:10000022-1690016400-1690023600@guelseren-demirel.de
SUMMARY:Nachbarschaftsgespräch beim Wochenmarkt
DESCRIPTION:Herzliche Einladung zum Nachbarschaftsgespräch am Infostand. Triff uns beim Wochenmarkt am Resi-Huber-Platz: \n\nGülseren Demirel\, Stimmkreisabgeordnete\nAndreas Ammer\, Bezirkstagskandidat
URL:https://guelseren-demirel.de/termin/nachbarschaftsgespraech-beim-wochenmarkt/
LOCATION:Resi-Huber-Platz\, Resi-Huber-Platz\, München\, 81371
ATTACH;FMTTYPE=image/png:https://guelseren-demirel.de/web-2024/wp-content/uploads/2023/07/Infostand-22.07.-Facebook-Event-Titelbild-mit-Claim-Nachbareschaftsgespraech.png
ORGANIZER;CN="G%C3%BClseren Demirel%2C MdL":MAILTO:info@guelseren.de
END:VEVENT
END:VCALENDAR