BEGIN:VCALENDAR
VERSION:2.0
PRODID:-//Gülseren Demirel - ECPv6.15.18//NONSGML v1.0//EN
CALSCALE:GREGORIAN
METHOD:PUBLISH
X-ORIGINAL-URL:https://guelseren-demirel.de
X-WR-CALDESC:Veranstaltungen für Gülseren Demirel
REFRESH-INTERVAL;VALUE=DURATION:PT1H
X-Robots-Tag:noindex
X-PUBLISHED-TTL:PT1H
BEGIN:VTIMEZONE
TZID:Europe/Berlin
BEGIN:DAYLIGHT
TZOFFSETFROM:+0100
TZOFFSETTO:+0200
TZNAME:CEST
DTSTART:20180325T010000
END:DAYLIGHT
BEGIN:STANDARD
TZOFFSETFROM:+0200
TZOFFSETTO:+0100
TZNAME:CET
DTSTART:20181028T010000
END:STANDARD
BEGIN:DAYLIGHT
TZOFFSETFROM:+0100
TZOFFSETTO:+0200
TZNAME:CEST
DTSTART:20190331T010000
END:DAYLIGHT
BEGIN:STANDARD
TZOFFSETFROM:+0200
TZOFFSETTO:+0100
TZNAME:CET
DTSTART:20191027T010000
END:STANDARD
BEGIN:DAYLIGHT
TZOFFSETFROM:+0100
TZOFFSETTO:+0200
TZNAME:CEST
DTSTART:20200329T010000
END:DAYLIGHT
BEGIN:STANDARD
TZOFFSETFROM:+0200
TZOFFSETTO:+0100
TZNAME:CET
DTSTART:20201025T010000
END:STANDARD
END:VTIMEZONE
BEGIN:VEVENT
DTSTART;TZID=Europe/Berlin:20190508T140000
DTEND;TZID=Europe/Berlin:20190518T170000
DTSTAMP:20260423T224146
CREATED:20240209T121902Z
LAST-MODIFIED:20240209T121902Z
UID:10000035-1557324000-1558198800@guelseren-demirel.de
SUMMARY:Europafest am Grünspitz
DESCRIPTION:Feiern Sie mit uns Europa beim Europafest am Grünspitz!  Ich freue mich auf die Gespräche mit Bürgerinnen und Bürgern an meinem Infostand und die Präsentation der Mitmachausstellung vom Land der Kulturen. Es gibt außerdem die Möglichkeit unsere OB-Kandidatin Katrin Habenschaden zu treffen\, zu tanzen und Spaß zu haben. Greifen Sie zu zu beim vegetarisch-veganen Buffet. Mit dabei sind auch unsere Giesinger Stadträte Dominik Krause und Sebastian Weisenburger.
URL:https://guelseren-demirel.de/termin/europafest-am-gruenspitz/
LOCATION:Grünspitz\, Tegernseer Landstraße 104\, München-Giesing
ATTACH;FMTTYPE=image/jpeg:https://guelseren-demirel.de/web-2024/wp-content/uploads/2019/05/Gruenes-Europafest.jpg
END:VEVENT
END:VCALENDAR