BEGIN:VCALENDAR
VERSION:2.0
PRODID:-//Gülseren Demirel - ECPv6.15.18//NONSGML v1.0//EN
CALSCALE:GREGORIAN
METHOD:PUBLISH
X-ORIGINAL-URL:https://guelseren-demirel.de
X-WR-CALDESC:Veranstaltungen für Gülseren Demirel
REFRESH-INTERVAL;VALUE=DURATION:PT1H
X-Robots-Tag:noindex
X-PUBLISHED-TTL:PT1H
BEGIN:VTIMEZONE
TZID:Europe/Berlin
BEGIN:DAYLIGHT
TZOFFSETFROM:+0100
TZOFFSETTO:+0200
TZNAME:CEST
DTSTART:20220327T010000
END:DAYLIGHT
BEGIN:STANDARD
TZOFFSETFROM:+0200
TZOFFSETTO:+0100
TZNAME:CET
DTSTART:20221030T010000
END:STANDARD
BEGIN:DAYLIGHT
TZOFFSETFROM:+0100
TZOFFSETTO:+0200
TZNAME:CEST
DTSTART:20230326T010000
END:DAYLIGHT
BEGIN:STANDARD
TZOFFSETFROM:+0200
TZOFFSETTO:+0100
TZNAME:CET
DTSTART:20231029T010000
END:STANDARD
BEGIN:DAYLIGHT
TZOFFSETFROM:+0100
TZOFFSETTO:+0200
TZNAME:CEST
DTSTART:20240331T010000
END:DAYLIGHT
BEGIN:STANDARD
TZOFFSETFROM:+0200
TZOFFSETTO:+0100
TZNAME:CET
DTSTART:20241027T010000
END:STANDARD
END:VTIMEZONE
BEGIN:VEVENT
DTSTART;TZID=Europe/Berlin:20230726T130000
DTEND;TZID=Europe/Berlin:20230726T150000
DTSTAMP:20260419T231937
CREATED:20240209T114430Z
LAST-MODIFIED:20240209T114430Z
UID:10000020-1690376400-1690383600@guelseren-demirel.de
SUMMARY:Informative Mittagsstunde: grün und günstig Wohnen
DESCRIPTION:Das Wohnungsproblem in München kann nur gelöst werden\, wenn die Rahmenbedingungen von Freistaat\, Stadt\, Bezirk und Bund gemeinsam geschaffen werden – und alle Menschen dabei beachtet werden. Was sind dafür unsere Grünen Ideen? \n\n\n Ich freue mich\, wenn Sie die Mittagsstunde mit dem \n\nFraktionsvorsitzenden und Spitzenkandidaten der Grünen Ludwig Hartmann\, MdL\nAndreas Ammer\, Bezirkstagskandidat\n\nund mir\, Gülseren Demirel\, deiner Stimmkreisabgeordneten besuchen. \nNach jahrelangem Ausverkauf durch den Freistaat\, ist es jetzt an ihm\, sich nicht im Klein-Klein zu verlieren\, sondern endlich Rahmenbedingungen zu schaffen\, um die akute Wohnungsnot in München anzugehen. Das Recht auf eine angemessene Wohnung ist Teil der bayerischen Verfassung und für uns Grüne nicht verhandelbar. \nIch freue mich über Ihr Kommen
URL:https://guelseren-demirel.de/termin/informative-mittagsstunde-gruen-und-guenstig-wohnen/
LOCATION:Grüner Salon\, Implerstraße 66\, München\, Deutschland\, 81371
ATTACH;FMTTYPE=image/png:https://guelseren-demirel.de/web-2024/wp-content/uploads/2023/07/Wohnen.png
ORGANIZER;CN="G%C3%BClseren Demirel%2C MdL":MAILTO:info@guelseren.de
END:VEVENT
BEGIN:VEVENT
DTSTART;TZID=Europe/Berlin:20230621T190000
DTEND;TZID=Europe/Berlin:20230621T210000
DTSTAMP:20260419T231939
CREATED:20240209T115223Z
LAST-MODIFIED:20240209T115223Z
UID:10000023-1687374000-1687381200@guelseren-demirel.de
SUMMARY:Einladung zur Veranstaltung: Gemeinsam Gewinnen – Gleiche Rechte für Menschen mit Behinderung
DESCRIPTION:Hiermit ade ich Sie bzw. weitere Interessierte herzlich zur Abendveranstaltung ein. Ich freue mich\, wenn Sie kommen und sich an der Diskussion beteiligen: \n“Gemeinsam Gewinnen: Gleiche Rechte für Menschen mit Behinderung” am 21.6. um 19 Uhr im Grünen Salon im Stimmkreisbüro Implerstraße 66 in der Nähe der U-Bahnstation Brudermühlstraße. \n\n\nZusammen mit Ihnen und \n\nOswald Utz\, dem ehrenamtlichen Behindertenbeauftragten der Landeshauptstadt München\nPatricia Koller von Randgruppenkrawall und Vorstand Behindertenverband Bayern e.V.\nAndreas Ammer der grüner Kandidat für den Bezirkstag\n\nmöchte ich die aktuelle Lage von Menschen mit Behinderung in Bayern diskutieren. \nSchließlich hat die Corona-Pandemie die Probleme verschlechtert: Es gab einen Rückschlag bei der Inklusion in den Arbeitsmarkt\, denn der Anteil an Arbeitslosen war bei Menschen mit Behinderung besonders hoch. \nWährend gerade der Staat bei den Anstellungen von Menschen mit Behinderung Vorbild sein müsste\, hingt Bayern bei der Einstellung im Bundesvergleich hinterher. Eigentlich sollte laut Staatsregierung Bayern auch 2023 barrierefrei sein. \n\nWo muss bei der Barrierefreiheit nachgebessert werden?\nWie sieht es konkret z.B. in den Bahnhöfen oder Schulen aus?\nWas sind Ihre Forderungen?\nWelche Antworten haben die Grünen?\n\nIch freue mich\, wenn Sie sich an der Diskussionsrunde beteiligen. \nFür eine bessere Planung\, freuen wir uns über eine Anmeldung unter info@guelseren.de
URL:https://guelseren-demirel.de/termin/einladung-zur-veranstaltung-gemeinsam-gewinnen-gleiche-rechte-fuer-menschen-mit-behinderung/
LOCATION:Grüner Salon\, Implerstraße 66\, München\, Deutschland\, 81371
ATTACH;FMTTYPE=image/jpeg:https://guelseren-demirel.de/web-2024/wp-content/uploads/2023/06/EinladungInklusionMenschenrechtQuerklein.jpg
END:VEVENT
BEGIN:VEVENT
DTSTART;TZID=Europe/Berlin:20230522T173000
DTEND;TZID=Europe/Berlin:20230522T190000
DTSTAMP:20260419T231939
CREATED:20240209T115414Z
LAST-MODIFIED:20240209T115414Z
UID:10000024-1684776600-1684782000@guelseren-demirel.de
SUMMARY:Wie geht es weiter mit den Ganztagsplätzen? Grüne Schule der Zukunft
DESCRIPTION:Die Ganztagsplatzgarantie ist in aller Munde-  sie betrifft aber nur den Grundschulbereich. Der Bedarf an Plätzen und Förderung ist gerade für berufstätige Eltern groß und endet nicht mit der vierten Klasse. Trotz des immer größeren Mangel an Arbeitskräften im sozialen wie im Bildungsbereich braucht es mehr Betreuungsangebote.   \n\nWas wird in Zukunft aus dem vielfältigen Angebot und den kreative Kooperationen zwischen Trägern und Schulen hier in unseren Vierteln?  \nWelche Perspektive haben die weiterführenden Schulen und ihre abwechslungsreichen Angebote über den ganzen Tag?  \n\n Diskutieren Sie mit   \nGabriele Triebel (Bildungspolitische Sprecherin Fraktion Bündnis90/Die Grünen)  \nBildungsreferent Florian Kraus\, Landeshauptstadt München Referat für Bildung und Sport  \nAnja Berger (Bildungspolitische Sprecherin der Grünen- Rosa Liste der Stadtratsfraktion  \nUnd mir als Ihrer Stimmkreisabgeordneten. Ich freue mich\, wenn wir mit Vertreter*innen der Jugendhilfe und Schulen ein vielfältige Runde werden.   \nDer Austausch findet am 22.5.2023 um 17:30 Uhr im Grünen Salon – Stimmkreisbüro in der Implerstraße 66 (U-Bahnstation Brudermühlstraße) statt.  \nEs ist Teil des Grünen Bildungskonzepts\, das wir den niedrigschwelligen Zugang und die Anzahl der Ganztagsplätze wie auch die gute Kooperation mit der Jugendhilfe stärken möchten. Damit sich Schule und Jugendhilfe noch besser für die Persönlichkeitsentwicklung von Kindern und Jugendlichen\, die Förderung des sozialen Lernens und die individuelle Förderung einsetzen können\, lade ich Sie herzlich zu diesem Fachaustausch ins  Stimmkreisbüro ein.   \nAnmeldung unter info@guelseren.de  
URL:https://guelseren-demirel.de/termin/wie-geht-es-weiter-mit-den-ganztagsplaetzen-gruene-schule-der-zukunft/
LOCATION:Grüner Salon\, Implerstraße 66\, München\, Deutschland\, 81371
ATTACH;FMTTYPE=image/jpeg:https://guelseren-demirel.de/web-2024/wp-content/uploads/2023/04/230522_Sharepic_Bildungstour_Gabi_Guelseren_Giesing_Facebook_korr1.jpg
END:VEVENT
BEGIN:VEVENT
DTSTART;TZID=Europe/Berlin:20230515T190000
DTEND;TZID=Europe/Berlin:20230515T210000
DTSTAMP:20260419T231939
CREATED:20240209T115534Z
LAST-MODIFIED:20240209T115534Z
UID:10000025-1684177200-1684184400@guelseren-demirel.de
SUMMARY:Informationsabend rund ums Heizen
DESCRIPTION:Zusammen mit der Verbraucherzentrale Bayern e.V. lade ich Sie\, die Bürger*innen meines Wahlkreises\, in den Grünen Salon ein\, um Ihre Fragen rund ums Heizen unter dem Aspekt des neuen Gebäudeenergiegesetzes zu beantworten. Falls Sie sich fragen\, wer wann seine Heizung austauschen muss und welche zugelassene Heizarten und Fördermöglichkeiten es ab 2024 geben wird\, dann kommen Sie gern vorbei! \nDie Veranstaltung wird zusammen mit der Verbraucherzentrale Bayern e.V. durchgeführt. Die Verbraucherzentrale ist ein unabhängiger und neutraler Verein\, der Verbaucher*innen fachlich berät. Als Expertinnen sind dabei: \n– Gisela Kienzle\, Dipl.Ing. (FH) Architektin\, Energieberaterin \n– Sigrid Goldbrunner\, Energieexpertin der Verbraucherzentrale Bayern e.V. \nNach einem kurzen Grußwort von mir und einleitenden Worten von Jamila Schäfer\, MdB zur Entstehung des neuen Gebäudeenergiegesetzes wird es einen ungefähr einstündigen Fachvortrag von Gisela Kienzle zu technischen und wirtschaftlichen Aspekten des Heizungstauschs geben. Danach besteht die Möglichkeit\, Fragen zu stellen.
URL:https://guelseren-demirel.de/termin/informationsabend-rund-ums-heizen/
LOCATION:Grüner Salon\, Implerstraße 66\, München\, Deutschland\, 81371
ATTACH;FMTTYPE=image/jpeg:https://guelseren-demirel.de/web-2024/wp-content/uploads/2023/04/Plakat-WaermewendejpgkleinFB.jpg
END:VEVENT
END:VCALENDAR